BEGIN:VCALENDAR
VERSION:2.0
PRODID:-//217.160.0.80//NONSGML kigkonsult.se iCalcreator 2.26.9//
CALSCALE:GREGORIAN
METHOD:PUBLISH
X-FROM-URL:https://kitabambini.de
X-WR-TIMEZONE:Europe/Berlin
BEGIN:VTIMEZONE
TZID:Europe/Berlin
X-LIC-LOCATION:Europe/Berlin
BEGIN:STANDARD
DTSTART:20251026T030000
TZOFFSETFROM:+0200
TZOFFSETTO:+0100
RDATE:20261025T030000
TZNAME:CET
END:STANDARD
BEGIN:DAYLIGHT
DTSTART:20260329T020000
TZOFFSETFROM:+0100
TZOFFSETTO:+0200
RDATE:20270328T020000
TZNAME:CEST
END:DAYLIGHT
END:VTIMEZONE
BEGIN:VEVENT
UID:ai1ec-1742@kitabambini.de
DTSTAMP:20260422T104152Z
CATEGORIES:
CONTACT:
DESCRIPTION:<p>Wir öffnen unsere Türen und laden alle interessierten Famili
 en ein\, unsere Kita näher kennenzulernen.</p>\n<p>Neben einem Rundgang du
 rch unsere Räumlichkeiten beantworten wir gerne eure Fragen.</p>
DTSTART;TZID=Europe/Berlin:20251001T160000
DTEND;TZID=Europe/Berlin:20251001T183000
SEQUENCE:0
SUMMARY:Tag der offenen Tür
URL:https://kitabambini.de/Veranstaltung/tag-der-offenen-tuer
X-COST-TYPE:free
END:VEVENT
BEGIN:VEVENT
UID:ai1ec-1744@kitabambini.de
DTSTAMP:20260422T104152Z
CATEGORIES:
CONTACT:
DESCRIPTION:<p>Wir öffnen unsere Türen und laden alle interessierten Famili
 en ein\, unsere Kita näher kennenzulernen.</p>\n<p>Neben einem Rundgang du
 rch unsere Räumlichkeiten beantworten wir gerne eure Fragen.</p>
DTSTART;TZID=Europe/Berlin:20251004T100000
DTEND;TZID=Europe/Berlin:20251004T130000
SEQUENCE:0
SUMMARY:Tag der offenen Tür
URL:https://kitabambini.de/Veranstaltung/tag-der-offenen-tuer-2
X-COST-TYPE:free
END:VEVENT
END:VCALENDAR
